Workbook

Sheet 00_基礎情報
A1: 研究セキュリティ確保のための特定研究開発プログラム参加者自己申告様式（ひな形）
B2: シート00_基礎情報
B4: ・本様式は、「研究セキュリティの確保に関する取組のための手順書」（令和7年12月）に基づき、特定研究開発プログラムの参加者が自己申告するための様式です。
B6: 姓 (Last Name) | C6: 名 (First Name) | D6: Last Name | E6: First Name | F6: e-Rad番号 | G6: 研究費の取得歴 | H6: 研究費以外の支援等*の取得歴 | I6: 発表論文 | J6: 特許出願 | K6: 外国の人材採用プログラムへの参加歴 | L6: 指針*に基づく処分歴 | M6: リスト*への掲載 | N6: リスト*掲載機関への所属 | O6: リスト掲載機関に所属する研究者との関係* | P6: 非居住者* | Q6: 特定類型*
B7: 農林 | C7: 太郎 | D7: Nourin | E7: Taro | F7: XXXXXXXX | G7: 有 | H7: 有 | I7: 有 | J7: 有 | K7: 有 | L7: 有 | M7: 有 | N7: 有 | O7: 有 | P7: 非該当 | Q7: 非該当
B9: 【記入要領】
B10: ・シート00（基礎情報）、シート01（学歴）、シート02（研究経歴・職歴）は必ず記入してください。
B11: ・研究費の取得歴、研究費以外の支援等の取得歴、発表論文、特許出願、外国の人材採用プログラムへの参加歴、指針に基づく処分歴、リスト掲載機関への所属、リスト掲載機関に所属する研究者との関係は、応募の日の属する年度を含めた過去3年を対象とします。
B13: ・シート00（基礎情報）で研究費の取得歴を「有」とした場合はシート03（研究費取得歴）に、研究費以外の支援等の取得歴を「有」とした場合はシート04（研究費以外支援等取得歴）に、発表論文を「有」とした場合はシート05（発表論文）に、特許出願を「有」とした場合はシート06（特許出願）に、外国の人材採用プログラムへの参加歴を「有」とした場合はシート07（外国人材採用プログラム）に、指針に基づく処分歴を「有」とした場合はシート08（処分歴）に、リスト掲載機関に所属する研究者との関係を「有」とした場合は、シート09（リスト掲載機関所属研究者）に詳細を記入してください。
B18: *用語の説明
B19: ・研究費以外の支援等：報酬・給与、奨学金、寄付金、名誉職等の付与及び兼職の状況を指す。
B20: ・指針：「競争的研究費の適正な執行に関する指針」（平成17年9月9日競争的研究費に関する関係府省連絡申し合わせ）を指す。
B21: ・リスト：経済産業省の外国ユーザーリスト及び米国の統合スクリーニングテストを指す。
B22: （経済産業省の外国ユーザーリスト） | F22: https://www.meti.go.jp/policy/anpo/law00.html#userlist
B23: （米国の統合スクリーニングテスト） | F23: https://www.trade.gov/consolidated-screening-list
B24: ・リスト掲載機関に所属する研究者との関係：共同研究・受託研究の実施、共著論文の執筆・公表及び学会等における連名の口頭発表を指す。
B25: ・非居住者：安全保障貿易管理における「非居住者」（一時帰国しその滞在期間が６月未満の日本人等）を指す。
B26: 外国為替及び外国貿易法（昭和24年法律第228号）及び外国為替法令の解釈及び運用について（昭和55年11月29日付け蔵国第4672号）を参照。
B27: ・特定類型：安全保障貿易管理における「特定類型」 （日本の大学の教授であり外国の大学と雇用契約を締結し教授職を兼職している者、外国政府から留学資金を得ている留学生、外国の人材採用プログラムに参加し多額の研究資金や生活費の提供を受けている研究者等）を指す。
B29: 「外国為替及び外国貿易法第25条第1項及び外国為替令第17条第2項から第4項までの規定に基づき許可を要する技術を提供する取引又は行為について」（経済産業省貿易経済安全保障局）及び「「みなし輸出」管理の明確化に関するQ＆A」（経済産業省）を参照。

Sheet 01_学歴
A1: ='00_基礎情報'!A1 -> 研究セキュリティ確保のための特定研究開発プログラム参加者自己申告様式（ひな形）
B2: シート01_学歴
B4: ・本様式は、「研究セキュリティの確保に関する取組のための手順書」（令和7年12月）に基づき、特定研究開発プログラムの参加者が自己申告するための様式です。
B5: ・最終学歴から遡って、申告者の高等学校以降の学歴を記載してください。（備考欄には、必要に応じて指導教官等の情報を記載。）
B7: 姓名 （自動） | C7: e-Rad番号 （自動） | D7: 学校名 | E7: 学部・科／専攻 | F7: 所在国・地域 | G7: 所属始期 （入学・編入等） | H7: 所属終期 （卒業・退学等） | I7: 備考
B8: {=テーブル1[姓 (Last Name)]&テーブル1[名 (First Name)]} -> 農林太郎 | C8: {=テーブル1[e-Rad番号]} -> XXXXXXXX | D8: 農林水産業大学 | E8: 農林水産業学部・農林水産業学科 | F8: Japan | G8: 38808 | H8: 40999
B9: {=テーブル1[姓 (Last Name)]&テーブル1[名 (First Name)]} -> 農林太郎 | C9: {=テーブル1[e-Rad番号]} -> XXXXXXXX | D9: Nourinsuisan High School | F9: United States of America | G9: 37500 | H9: 38502
B10: {=テーブル1[姓 (Last Name)]&テーブル1[名 (First Name)]} -> 農林太郎 | C10: {=テーブル1[e-Rad番号]} -> XXXXXXXX
B11: {=テーブル1[姓 (Last Name)]&テーブル1[名 (First Name)]} -> 農林太郎 | C11: {=テーブル1[e-Rad番号]} -> XXXXXXXX
B12: {=テーブル1[姓 (Last Name)]&テーブル1[名 (First Name)]} -> 農林太郎 | C12: {=テーブル1[e-Rad番号]} -> XXXXXXXX
B13: {=テーブル1[姓 (Last Name)]&テーブル1[名 (First Name)]} -> 農林太郎 | C13: {=テーブル1[e-Rad番号]} -> XXXXXXXX
B14: {=テーブル1[姓 (Last Name)]&テーブル1[名 (First Name)]} -> 農林太郎 | C14: {=テーブル1[e-Rad番号]} -> XXXXXXXX
B15: {=テーブル1[姓 (Last Name)]&テーブル1[名 (First Name)]} -> 農林太郎 | C15: {=テーブル1[e-Rad番号]} -> XXXXXXXX
B16: {=テーブル1[姓 (Last Name)]&テーブル1[名 (First Name)]} -> 農林太郎 | C16: {=テーブル1[e-Rad番号]} -> XXXXXXXX
B17: {=テーブル1[姓 (Last Name)]&テーブル1[名 (First Name)]} -> 農林太郎 | C17: {=テーブル1[e-Rad番号]} -> XXXXXXXX
B18: {=テーブル1[姓 (Last Name)]&テーブル1[名 (First Name)]} -> 農林太郎 | C18: {=テーブル1[e-Rad番号]} -> XXXXXXXX
B19: {=テーブル1[姓 (Last Name)]&テーブル1[名 (First Name)]} -> 農林太郎 | C19: {=テーブル1[e-Rad番号]} -> XXXXXXXX
B20: {=テーブル1[姓 (Last Name)]&テーブル1[名 (First Name)]} -> 農林太郎 | C20: {=テーブル1[e-Rad番号]} -> XXXXXXXX
B21: {=テーブル1[姓 (Last Name)]&テーブル1[名 (First Name)]} -> 農林太郎 | C21: {=テーブル1[e-Rad番号]} -> XXXXXXXX
... B32: {=テーブル1[姓 (Last Name)]&テーブル1[名 (First Name)]} -> 農林太郎 | C32: {=テーブル1[e-Rad番号]} -> XXXXXXXX

Sheet 02_研究経歴・職歴
A1: ='00_基礎情報'!A1 -> 研究セキュリティ確保のための特定研究開発プログラム参加者自己申告様式（ひな形）
B2: シート02_研究経歴・職歴
B4: ・本様式は、「研究セキュリティの確保に関する取組のための手順書」（令和7年12月）に基づき、特定研究開発プログラムの参加者が自己申告するための様式です。
B5: ・現職から遡って、申告者の全ての研究経歴・職歴を記載してください。また、「リスト掲載」欄は、所属していた機関がリストに掲載されている場合は○を、掲載されていない場合は×を記載してください。
B8: 姓名 （自動） | C8: e-Rad番号 （自動） | D8: 所属機関名 | E8: 所属部署 | F8: 所在国・地域 | G8: リスト掲載 | H8: 所属始期 | I8: 所属終期 | J8: 役職 | K8: 主な業務・研究
B9: {=テーブル1[姓 (Last Name)]&テーブル1[名 (First Name)]} -> 農林太郎 | C9: {=テーブル1[e-Rad番号]} -> XXXXXXXX | D9: 農林水産研究所 | E9: 農林水産研究部門作物学研究ユニット | F9: Japan | G9: ×
B10: {=テーブル1[姓 (Last Name)]&テーブル1[名 (First Name)]} -> 農林太郎 | C10: {=テーブル1[e-Rad番号]} -> XXXXXXXX | D10: 農林水産研究所 | E10: 農林水産研究部門農業工学研究ユニット | F10: Japan | G10: ×
B11: {=テーブル1[姓 (Last Name)]&テーブル1[名 (First Name)]} -> 農林太郎 | C11: {=テーブル1[e-Rad番号]} -> XXXXXXXX | D11: 農林水産株式会社 | E11: ○○部○○課 | F11: Japan | G11: ×
B12: {=テーブル1[姓 (Last Name)]&テーブル1[名 (First Name)]} -> 農林太郎 | C12: {=テーブル1[e-Rad番号]} -> XXXXXXXX | D12: 農林水産業大学 | E12: 農林水産業学部・農林水産業学科 | F12: Japan | G12: ×
B13: {=テーブル1[姓 (Last Name)]&テーブル1[名 (First Name)]} -> 農林太郎 | C13: {=テーブル1[e-Rad番号]} -> XXXXXXXX
B14: {=テーブル1[姓 (Last Name)]&テーブル1[名 (First Name)]} -> 農林太郎 | C14: {=テーブル1[e-Rad番号]} -> XXXXXXXX
B15: {=テーブル1[姓 (Last Name)]&テーブル1[名 (First Name)]} -> 農林太郎 | C15: {=テーブル1[e-Rad番号]} -> XXXXXXXX
B16: {=テーブル1[姓 (Last Name)]&テーブル1[名 (First Name)]} -> 農林太郎 | C16: {=テーブル1[e-Rad番号]} -> XXXXXXXX
B17: {=テーブル1[姓 (Last Name)]&テーブル1[名 (First Name)]} -> 農林太郎 | C17: {=テーブル1[e-Rad番号]} -> XXXXXXXX
B18: {=テーブル1[姓 (Last Name)]&テーブル1[名 (First Name)]} -> 農林太郎 | C18: {=テーブル1[e-Rad番号]} -> XXXXXXXX
B19: {=テーブル1[姓 (Last Name)]&テーブル1[名 (First Name)]} -> 農林太郎 | C19: {=テーブル1[e-Rad番号]} -> XXXXXXXX
B20: {=テーブル1[姓 (Last Name)]&テーブル1[名 (First Name)]} -> 農林太郎 | C20: {=テーブル1[e-Rad番号]} -> XXXXXXXX
B21: {=テーブル1[姓 (Last Name)]&テーブル1[名 (First Name)]} -> 農林太郎 | C21: {=テーブル1[e-Rad番号]} -> XXXXXXXX
B22: {=テーブル1[姓 (Last Name)]&テーブル1[名 (First Name)]} -> 農林太郎 | C22: {=テーブル1[e-Rad番号]} -> XXXXXXXX
B23: {=テーブル1[姓 (Last Name)]&テーブル1[名 (First Name)]} -> 農林太郎 | C23: {=テーブル1[e-Rad番号]} -> XXXXXXXX
B24: {=テーブル1[姓 (Last Name)]&テーブル1[名 (First Name)]} -> 農林太郎 | C24: {=テーブル1[e-Rad番号]} -> XXXXXXXX
... B31: {=テーブル1[姓 (Last Name)]&テーブル1[名 (First Name)]} -> 農林太郎 | C31: {=テーブル1[e-Rad番号]} -> XXXXXXXX

Sheet 03_研究費取得歴
A1: ='00_基礎情報'!A1 -> 研究セキュリティ確保のための特定研究開発プログラム参加者自己申告様式（ひな形）
B2: シート03_研究費取得歴
B4: ・本様式は、「研究セキュリティの確保に関する取組のための手順書」（令和7年12月）に基づき、特定研究開発プログラムの参加者が自己申告するための様式です。
B5: ・応募の日の属する年度を含めた過去3年に取得した研究費の取得実績を記載してください。
B7: 姓名 （自動） | C7: e-Rad番号 （自動） | D7: 資金名 （Grant） | E7: 資金配分機関 | F7: 資金配分機関所在国・地域 | G7: 始期 | H7: 終期 （予定含む） | I7: 研究課題名
B8: {=テーブル1[姓 (Last Name)]&テーブル1[名 (First Name)]} -> 農林太郎 | C8: {=テーブル1[e-Rad番号]} -> XXXXXXXX | D8: 戦略的プロジェクト研究推進事業 | E8: 農林水産省 | F8: Japan | G8: 43966 | H8: 45747 | I8: ○○○技術の開発
B9: {=テーブル1[姓 (Last Name)]&テーブル1[名 (First Name)]} -> 農林太郎 | C9: {=テーブル1[e-Rad番号]} -> XXXXXXXX
B10: {=テーブル1[姓 (Last Name)]&テーブル1[名 (First Name)]} -> 農林太郎 | C10: {=テーブル1[e-Rad番号]} -> XXXXXXXX
B11: {=テーブル1[姓 (Last Name)]&テーブル1[名 (First Name)]} -> 農林太郎 | C11: {=テーブル1[e-Rad番号]} -> XXXXXXXX
B12: {=テーブル1[姓 (Last Name)]&テーブル1[名 (First Name)]} -> 農林太郎 | C12: {=テーブル1[e-Rad番号]} -> XXXXXXXX
B13: {=テーブル1[姓 (Last Name)]&テーブル1[名 (First Name)]} -> 農林太郎 | C13: {=テーブル1[e-Rad番号]} -> XXXXXXXX
B14: {=テーブル1[姓 (Last Name)]&テーブル1[名 (First Name)]} -> 農林太郎 | C14: {=テーブル1[e-Rad番号]} -> XXXXXXXX
B15: {=テーブル1[姓 (Last Name)]&テーブル1[名 (First Name)]} -> 農林太郎 | C15: {=テーブル1[e-Rad番号]} -> XXXXXXXX
B16: {=テーブル1[姓 (Last Name)]&テーブル1[名 (First Name)]} -> 農林太郎 | C16: {=テーブル1[e-Rad番号]} -> XXXXXXXX
B17: {=テーブル1[姓 (Last Name)]&テーブル1[名 (First Name)]} -> 農林太郎 | C17: {=テーブル1[e-Rad番号]} -> XXXXXXXX
B18: {=テーブル1[姓 (Last Name)]&テーブル1[名 (First Name)]} -> 農林太郎 | C18: {=テーブル1[e-Rad番号]} -> XXXXXXXX
B19: {=テーブル1[姓 (Last Name)]&テーブル1[名 (First Name)]} -> 農林太郎 | C19: {=テーブル1[e-Rad番号]} -> XXXXXXXX
B20: {=テーブル1[姓 (Last Name)]&テーブル1[名 (First Name)]} -> 農林太郎 | C20: {=テーブル1[e-Rad番号]} -> XXXXXXXX
... B33: {=テーブル1[姓 (Last Name)]&テーブル1[名 (First Name)]} -> 農林太郎 | C33: {=テーブル1[e-Rad番号]} -> XXXXXXXX

Sheet 04_研究以外以外支援等取得歴
A1: ='00_基礎情報'!A1 -> 研究セキュリティ確保のための特定研究開発プログラム参加者自己申告様式（ひな形）
B2: シート04_研究費以外支援等取得歴
B4: ・本様式は、「研究セキュリティの確保に関する取組のための手順書」（令和7年12月）に基づき、特定研究開発プログラムの参加者が自己申告するための様式です。
B5: ・応募の日の属する年度を含めた過去3年に取得した研究費以外の支援等の取得実績を記載してください。
B7: 姓名 （自動） | C7: e-Rad番号 （自動） | D7: 支援等の区分 | E7: 支援等の付与機関 | F7: 付与機関所在国・地域 | G7: 始期 | H7: 終期 （予定含む） | I7: 備考
B8: {=テーブル1[姓 (Last Name)]&テーブル1[名 (First Name)]} -> 農林太郎 | C8: {=テーブル1[e-Rad番号]} -> XXXXXXXX | D8: 寄付金 | E8: ○○ | F8: United States of America
B9: {=テーブル1[姓 (Last Name)]&テーブル1[名 (First Name)]} -> 農林太郎 | C9: {=テーブル1[e-Rad番号]} -> XXXXXXXX
B10: {=テーブル1[姓 (Last Name)]&テーブル1[名 (First Name)]} -> 農林太郎 | C10: {=テーブル1[e-Rad番号]} -> XXXXXXXX
B11: {=テーブル1[姓 (Last Name)]&テーブル1[名 (First Name)]} -> 農林太郎 | C11: {=テーブル1[e-Rad番号]} -> XXXXXXXX
B12: {=テーブル1[姓 (Last Name)]&テーブル1[名 (First Name)]} -> 農林太郎 | C12: {=テーブル1[e-Rad番号]} -> XXXXXXXX
B13: {=テーブル1[姓 (Last Name)]&テーブル1[名 (First Name)]} -> 農林太郎 | C13: {=テーブル1[e-Rad番号]} -> XXXXXXXX
B14: {=テーブル1[姓 (Last Name)]&テーブル1[名 (First Name)]} -> 農林太郎 | C14: {=テーブル1[e-Rad番号]} -> XXXXXXXX
B15: {=テーブル1[姓 (Last Name)]&テーブル1[名 (First Name)]} -> 農林太郎 | C15: {=テーブル1[e-Rad番号]} -> XXXXXXXX
B16: {=テーブル1[姓 (Last Name)]&テーブル1[名 (First Name)]} -> 農林太郎 | C16: {=テーブル1[e-Rad番号]} -> XXXXXXXX
B17: {=テーブル1[姓 (Last Name)]&テーブル1[名 (First Name)]} -> 農林太郎 | C17: {=テーブル1[e-Rad番号]} -> XXXXXXXX
B18: {=テーブル1[姓 (Last Name)]&テーブル1[名 (First Name)]} -> 農林太郎 | C18: {=テーブル1[e-Rad番号]} -> XXXXXXXX
B19: {=テーブル1[姓 (Last Name)]&テーブル1[名 (First Name)]} -> 農林太郎 | C19: {=テーブル1[e-Rad番号]} -> XXXXXXXX
B20: {=テーブル1[姓 (Last Name)]&テーブル1[名 (First Name)]} -> 農林太郎 | C20: {=テーブル1[e-Rad番号]} -> XXXXXXXX
... B33: {=テーブル1[姓 (Last Name)]&テーブル1[名 (First Name)]} -> 農林太郎 | C33: {=テーブル1[e-Rad番号]} -> XXXXXXXX

Sheet 05_発表論文
A1: ='00_基礎情報'!A1 -> 研究セキュリティ確保のための特定研究開発プログラム参加者自己申告様式（ひな形）
B2: シート05_発表論文
B4: ・本様式は、「研究セキュリティの確保に関する取組のための手順書」（令和7年12月）に基づき、特定研究開発プログラムの参加者が自己申告するための様式です。
B5: ・応募の日の属する年度を含めた過去3年に発表した論文の実績・共著者を記載してください。なお、論文・共著者毎に1行を作成してください。
B7: 姓名 （自動） | C7: e-Rad番号 （自動） | D7: 共著者 姓(Last Name) | E7: 共著者 名(First Name) | F7: 各論文における共著者の区分 | G7: 共著者所属機関 （論文発表当時） | H7: 論文件名 | I7: 論文掲載媒体 | J7: 論文掲載日
B8: {=テーブル1[姓 (Last Name)]&テーブル1[名 (First Name)]} -> 農林太郎 | C8: {=テーブル1[e-Rad番号]} -> XXXXXXXX | D8: 農林 | E8: 花子 | F8: 筆頭著者 | G8: 農林水産業大学 | H8: ○○○の動態解明 | I8: Jurnal of ○○
B9: {=テーブル1[姓 (Last Name)]&テーブル1[名 (First Name)]} -> 農林太郎 | C9: {=テーブル1[e-Rad番号]} -> XXXXXXXX | D9: 農水 | E9: 次郎 | F9: 責任著者 | G9: 農林水産業大学 | H9: ○○○の動態解明 | I9: Jurnal of ○○
B10: {=テーブル1[姓 (Last Name)]&テーブル1[名 (First Name)]} -> 農林太郎 | C10: {=テーブル1[e-Rad番号]} -> XXXXXXXX | D10: Nousui | E10: Saburo | F10: 共著者 | G10: 農林水産研究所 | H10: ○○○の動態解明 | I10: Jurnal of ○○
B11: {=テーブル1[姓 (Last Name)]&テーブル1[名 (First Name)]} -> 農林太郎 | C11: {=テーブル1[e-Rad番号]} -> XXXXXXXX | D11: Nousui | E11: Saburo | F11: 責任著者 | G11: 農林水産研究所 | H11: □□□の開発 | I11: Jurnal of △△
B12: {=テーブル1[姓 (Last Name)]&テーブル1[名 (First Name)]} -> 農林太郎 | C12: {=テーブル1[e-Rad番号]} -> XXXXXXXX | D12: 農水 | E12: 次郎 | F12: 共著者 | G12: 農林水産業大学 | H12: □□□の開発 | I12: Jurnal of △△
B13: {=テーブル1[姓 (Last Name)]&テーブル1[名 (First Name)]} -> 農林太郎 | C13: {=テーブル1[e-Rad番号]} -> XXXXXXXX
B14: {=テーブル1[姓 (Last Name)]&テーブル1[名 (First Name)]} -> 農林太郎 | C14: {=テーブル1[e-Rad番号]} -> XXXXXXXX
B15: {=テーブル1[姓 (Last Name)]&テーブル1[名 (First Name)]} -> 農林太郎 | C15: {=テーブル1[e-Rad番号]} -> XXXXXXXX
B16: {=テーブル1[姓 (Last Name)]&テーブル1[名 (First Name)]} -> 農林太郎 | C16: {=テーブル1[e-Rad番号]} -> XXXXXXXX
B17: {=テーブル1[姓 (Last Name)]&テーブル1[名 (First Name)]} -> 農林太郎 | C17: {=テーブル1[e-Rad番号]} -> XXXXXXXX
B18: {=テーブル1[姓 (Last Name)]&テーブル1[名 (First Name)]} -> 農林太郎 | C18: {=テーブル1[e-Rad番号]} -> XXXXXXXX
B19: {=テーブル1[姓 (Last Name)]&テーブル1[名 (First Name)]} -> 農林太郎 | C19: {=テーブル1[e-Rad番号]} -> XXXXXXXX
B20: {=テーブル1[姓 (Last Name)]&テーブル1[名 (First Name)]} -> 農林太郎 | C20: {=テーブル1[e-Rad番号]} -> XXXXXXXX
B21: {=テーブル1[姓 (Last Name)]&テーブル1[名 (First Name)]} -> 農林太郎 | C21: {=テーブル1[e-Rad番号]} -> XXXXXXXX
B22: {=テーブル1[姓 (Last Name)]&テーブル1[名 (First Name)]} -> 農林太郎 | C22: {=テーブル1[e-Rad番号]} -> XXXXXXXX
B23: {=テーブル1[姓 (Last Name)]&テーブル1[名 (First Name)]} -> 農林太郎 | C23: {=テーブル1[e-Rad番号]} -> XXXXXXXX
B24: {=テーブル1[姓 (Last Name)]&テーブル1[名 (First Name)]} -> 農林太郎 | C24: {=テーブル1[e-Rad番号]} -> XXXXXXXX
... B34: {=テーブル1[姓 (Last Name)]&テーブル1[名 (First Name)]} -> 農林太郎 | C34: {=テーブル1[e-Rad番号]} -> XXXXXXXX

Sheet 06_特許出願
A1: ='00_基礎情報'!A1 -> 研究セキュリティ確保のための特定研究開発プログラム参加者自己申告様式（ひな形）
B2: シート06_特許出願
B4: ・本様式は、「研究セキュリティの確保に関する取組のための手順書」（令和7年12月）に基づき、特定研究開発プログラムの参加者が自己申告するための様式です。
B5: ・応募の日の属する年度を含めた過去3年に出願した特許の実績・共同発明者・共同出願人を記載してください。なお、出願した特許・共同発明者・共同出願人毎に1行を作成してください。
B7: 姓名 （自動） | C7: e-Rad番号 （自動） | D7: 共同発明者又は共同出願人 姓(Last Name) | E7: 共同発明者又は共同出願人 名(First Name) | F7: 共同発明者又は共同出願人所属機関 （出願当時） | G7: 出願した発明の名称 | H7: 出願番号 | I7: 出願日 | J7: 取得日 | K7: 出願国
B8: {=テーブル1[姓 (Last Name)]&テーブル1[名 (First Name)]} -> 農林太郎 | C8: {=テーブル1[e-Rad番号]} -> XXXXXXXX | D8: 農林 | E8: 花子 | F8: 農林水産業大学 | G8: ○○○ | H8: 特願2023-XXXXXX | K8: Japan
B9: {=テーブル1[姓 (Last Name)]&テーブル1[名 (First Name)]} -> 農林太郎 | C9: {=テーブル1[e-Rad番号]} -> XXXXXXXX | D9: 農水 | E9: 次郎 | F9: 農林水産業大学 | G9: ○○○ | H9: 特願2023-XXXXXX | K9: Japan
B10: {=テーブル1[姓 (Last Name)]&テーブル1[名 (First Name)]} -> 農林太郎 | C10: {=テーブル1[e-Rad番号]} -> XXXXXXXX | D10: Nousui | E10: Saburo | F10: 農林水産研究所 | G10: ○○○ | H10: 特願2023-XXXXXX | K10: Japan
B11: {=テーブル1[姓 (Last Name)]&テーブル1[名 (First Name)]} -> 農林太郎 | C11: {=テーブル1[e-Rad番号]} -> XXXXXXXX | D11: Nousui | E11: Saburo | F11: 農林水産研究所 | G11: □□□ | H11: 特願2024-YYYYYY | K11: Japan
B12: {=テーブル1[姓 (Last Name)]&テーブル1[名 (First Name)]} -> 農林太郎 | C12: {=テーブル1[e-Rad番号]} -> XXXXXXXX | D12: 農水 | E12: 次郎 | F12: 農林水産業大学 | G12: □□□ | H12: 特願2024-YYYYYY | K12: Japan
B13: {=テーブル1[姓 (Last Name)]&テーブル1[名 (First Name)]} -> 農林太郎 | C13: {=テーブル1[e-Rad番号]} -> XXXXXXXX
B14: {=テーブル1[姓 (Last Name)]&テーブル1[名 (First Name)]} -> 農林太郎 | C14: {=テーブル1[e-Rad番号]} -> XXXXXXXX
B15: {=テーブル1[姓 (Last Name)]&テーブル1[名 (First Name)]} -> 農林太郎 | C15: {=テーブル1[e-Rad番号]} -> XXXXXXXX
B16: {=テーブル1[姓 (Last Name)]&テーブル1[名 (First Name)]} -> 農林太郎 | C16: {=テーブル1[e-Rad番号]} -> XXXXXXXX
B17: {=テーブル1[姓 (Last Name)]&テーブル1[名 (First Name)]} -> 農林太郎 | C17: {=テーブル1[e-Rad番号]} -> XXXXXXXX
B18: {=テーブル1[姓 (Last Name)]&テーブル1[名 (First Name)]} -> 農林太郎 | C18: {=テーブル1[e-Rad番号]} -> XXXXXXXX
B19: {=テーブル1[姓 (Last Name)]&テーブル1[名 (First Name)]} -> 農林太郎 | C19: {=テーブル1[e-Rad番号]} -> XXXXXXXX
B20: {=テーブル1[姓 (Last Name)]&テーブル1[名 (First Name)]} -> 農林太郎 | C20: {=テーブル1[e-Rad番号]} -> XXXXXXXX
B21: {=テーブル1[姓 (Last Name)]&テーブル1[名 (First Name)]} -> 農林太郎 | C21: {=テーブル1[e-Rad番号]} -> XXXXXXXX
B22: {=テーブル1[姓 (Last Name)]&テーブル1[名 (First Name)]} -> 農林太郎 | C22: {=テーブル1[e-Rad番号]} -> XXXXXXXX
B23: {=テーブル1[姓 (Last Name)]&テーブル1[名 (First Name)]} -> 農林太郎 | C23: {=テーブル1[e-Rad番号]} -> XXXXXXXX
B24: {=テーブル1[姓 (Last Name)]&テーブル1[名 (First Name)]} -> 農林太郎 | C24: {=テーブル1[e-Rad番号]} -> XXXXXXXX
... B27: {=テーブル1[姓 (Last Name)]&テーブル1[名 (First Name)]} -> 農林太郎 | C27: {=テーブル1[e-Rad番号]} -> XXXXXXXX

Sheet 07_外国人材採用プログラム
A1: ='00_基礎情報'!A1 -> 研究セキュリティ確保のための特定研究開発プログラム参加者自己申告様式（ひな形）
B2: シート07_外国人材採用プログラム
B4: ・本様式は、「研究セキュリティの確保に関する取組のための手順書」（令和7年12月）に基づき、特定研究開発プログラムの参加者が自己申告するための様式です。
B5: ・応募の日の属する年度を含めた過去3年に参加した外国の人材採用プログラムの実績を記載してください。
B7: 姓名 （自動） | C7: e-Rad番号 （自動） | D7: 人材採用プログラム名 | E7: 人材採用プログラムの実施機関 | F7: 実施機関の所在国・地域 | G7: 始期 | H7: 終期 （予定含む） | I7: 備考
B8: {=テーブル1[姓 (Last Name)]&テーブル1[名 (First Name)]} -> 農林太郎 | C8: {=テーブル1[e-Rad番号]} -> XXXXXXXX | D8: ○○○○ | E8: ○○○○ | F8: United Kingdom of Great Britain and Northern Ireland
B9: {=テーブル1[姓 (Last Name)]&テーブル1[名 (First Name)]} -> 農林太郎 | C9: {=テーブル1[e-Rad番号]} -> XXXXXXXX
B10: {=テーブル1[姓 (Last Name)]&テーブル1[名 (First Name)]} -> 農林太郎 | C10: {=テーブル1[e-Rad番号]} -> XXXXXXXX
B11: {=テーブル1[姓 (Last Name)]&テーブル1[名 (First Name)]} -> 農林太郎 | C11: {=テーブル1[e-Rad番号]} -> XXXXXXXX
B12: {=テーブル1[姓 (Last Name)]&テーブル1[名 (First Name)]} -> 農林太郎 | C12: {=テーブル1[e-Rad番号]} -> XXXXXXXX
B13: {=テーブル1[姓 (Last Name)]&テーブル1[名 (First Name)]} -> 農林太郎 | C13: {=テーブル1[e-Rad番号]} -> XXXXXXXX
B14: {=テーブル1[姓 (Last Name)]&テーブル1[名 (First Name)]} -> 農林太郎 | C14: {=テーブル1[e-Rad番号]} -> XXXXXXXX
B15: {=テーブル1[姓 (Last Name)]&テーブル1[名 (First Name)]} -> 農林太郎 | C15: {=テーブル1[e-Rad番号]} -> XXXXXXXX
B16: {=テーブル1[姓 (Last Name)]&テーブル1[名 (First Name)]} -> 農林太郎 | C16: {=テーブル1[e-Rad番号]} -> XXXXXXXX
B17: {=テーブル1[姓 (Last Name)]&テーブル1[名 (First Name)]} -> 農林太郎 | C17: {=テーブル1[e-Rad番号]} -> XXXXXXXX
B18: {=テーブル1[姓 (Last Name)]&テーブル1[名 (First Name)]} -> 農林太郎 | C18: {=テーブル1[e-Rad番号]} -> XXXXXXXX
B19: {=テーブル1[姓 (Last Name)]&テーブル1[名 (First Name)]} -> 農林太郎 | C19: {=テーブル1[e-Rad番号]} -> XXXXXXXX
B20: {=テーブル1[姓 (Last Name)]&テーブル1[名 (First Name)]} -> 農林太郎 | C20: {=テーブル1[e-Rad番号]} -> XXXXXXXX
... B32: {=テーブル1[姓 (Last Name)]&テーブル1[名 (First Name)]} -> 農林太郎 | C32: {=テーブル1[e-Rad番号]} -> XXXXXXXX

Sheet 08_処分歴
A1: ='00_基礎情報'!A1 -> 研究セキュリティ確保のための特定研究開発プログラム参加者自己申告様式（ひな形）
B2: シート08_処分歴
B4: ・本様式は、「研究セキュリティの確保に関する取組のための手順書」（令和7年12月）に基づき、特定研究開発プログラムの参加者が自己申告するための様式です。
B5: ・応募の日の属する年度を含めた過去3年における「競争的研究費の適正な執行に関する指針」に基づく処分歴を記載してください。
B7: 姓名 （自動） | C7: e-Rad番号 （自動） | D7: 処分対象となった不正事案 | E7: 不正があった競争的研究費名 | F7: 不正のあった競争的研究費の配分機関 | G7: 処分始期 | H7: 処分終期 | I7: 備考
B8: {=テーブル1[姓 (Last Name)]&テーブル1[名 (First Name)]} -> 農林太郎 | C8: {=テーブル1[e-Rad番号]} -> XXXXXXXX | D8: 不正行為のあった論文等の責任を負う著者 | E8: 戦略的プロジェクト研究推進事業 | F8: 農林水産省
B9: {=テーブル1[姓 (Last Name)]&テーブル1[名 (First Name)]} -> 農林太郎 | C9: {=テーブル1[e-Rad番号]} -> XXXXXXXX
B10: {=テーブル1[姓 (Last Name)]&テーブル1[名 (First Name)]} -> 農林太郎 | C10: {=テーブル1[e-Rad番号]} -> XXXXXXXX
B11: {=テーブル1[姓 (Last Name)]&テーブル1[名 (First Name)]} -> 農林太郎 | C11: {=テーブル1[e-Rad番号]} -> XXXXXXXX
B12: {=テーブル1[姓 (Last Name)]&テーブル1[名 (First Name)]} -> 農林太郎 | C12: {=テーブル1[e-Rad番号]} -> XXXXXXXX
B13: {=テーブル1[姓 (Last Name)]&テーブル1[名 (First Name)]} -> 農林太郎 | C13: {=テーブル1[e-Rad番号]} -> XXXXXXXX
B14: {=テーブル1[姓 (Last Name)]&テーブル1[名 (First Name)]} -> 農林太郎 | C14: {=テーブル1[e-Rad番号]} -> XXXXXXXX
B15: {=テーブル1[姓 (Last Name)]&テーブル1[名 (First Name)]} -> 農林太郎 | C15: {=テーブル1[e-Rad番号]} -> XXXXXXXX
B16: {=テーブル1[姓 (Last Name)]&テーブル1[名 (First Name)]} -> 農林太郎 | C16: {=テーブル1[e-Rad番号]} -> XXXXXXXX
B17: {=テーブル1[姓 (Last Name)]&テーブル1[名 (First Name)]} -> 農林太郎 | C17: {=テーブル1[e-Rad番号]} -> XXXXXXXX
B18: {=テーブル1[姓 (Last Name)]&テーブル1[名 (First Name)]} -> 農林太郎 | C18: {=テーブル1[e-Rad番号]} -> XXXXXXXX
B19: {=テーブル1[姓 (Last Name)]&テーブル1[名 (First Name)]} -> 農林太郎 | C19: {=テーブル1[e-Rad番号]} -> XXXXXXXX
B20: {=テーブル1[姓 (Last Name)]&テーブル1[名 (First Name)]} -> 農林太郎 | C20: {=テーブル1[e-Rad番号]} -> XXXXXXXX
... B34: {=テーブル1[姓 (Last Name)]&テーブル1[名 (First Name)]} -> 農林太郎 | C34: {=テーブル1[e-Rad番号]} -> XXXXXXXX

Sheet 09_リスト掲載機関所属研究者
A1: ='00_基礎情報'!A1 -> 研究セキュリティ確保のための特定研究開発プログラム参加者自己申告様式（ひな形）
B2: シート09_リスト掲載機関所属研究者
B4: ・本様式は、「研究セキュリティの確保に関する取組のための手順書」（令和7年12月）に基づき、特定研究開発プログラムの参加者が自己申告するための様式です。
B5: ・応募の日の属する年度を含めた過去3年にリスト掲載機関に所属していた研究者との関係（共同研究・受託研究の実施、共著論文の執筆・公表及び学会等における連名の口頭発表の実績をいう。）・所属機関等を記載してください。
B8: 姓名 （自動） | C8: e-Rad番号 （自動） | D8: 関係者 姓(Last Name) | E8: 関係者 名(First Name) | F8: 関係区分 | G8: 関係者所属機関 | H8: 機関所在国・地域 | I8: 備考
B9: {=テーブル1[姓 (Last Name)]&テーブル1[名 (First Name)]} -> 農林太郎 | C9: {=テーブル1[e-Rad番号]} -> XXXXXXXX
B10: {=テーブル1[姓 (Last Name)]&テーブル1[名 (First Name)]} -> 農林太郎 | C10: {=テーブル1[e-Rad番号]} -> XXXXXXXX
B11: {=テーブル1[姓 (Last Name)]&テーブル1[名 (First Name)]} -> 農林太郎 | C11: {=テーブル1[e-Rad番号]} -> XXXXXXXX
B12: {=テーブル1[姓 (Last Name)]&テーブル1[名 (First Name)]} -> 農林太郎 | C12: {=テーブル1[e-Rad番号]} -> XXXXXXXX
B13: {=テーブル1[姓 (Last Name)]&テーブル1[名 (First Name)]} -> 農林太郎 | C13: {=テーブル1[e-Rad番号]} -> XXXXXXXX
B14: {=テーブル1[姓 (Last Name)]&テーブル1[名 (First Name)]} -> 農林太郎 | C14: {=テーブル1[e-Rad番号]} -> XXXXXXXX
B15: {=テーブル1[姓 (Last Name)]&テーブル1[名 (First Name)]} -> 農林太郎 | C15: {=テーブル1[e-Rad番号]} -> XXXXXXXX
B16: {=テーブル1[姓 (Last Name)]&テーブル1[名 (First Name)]} -> 農林太郎 | C16: {=テーブル1[e-Rad番号]} -> XXXXXXXX
B17: {=テーブル1[姓 (Last Name)]&テーブル1[名 (First Name)]} -> 農林太郎 | C17: {=テーブル1[e-Rad番号]} -> XXXXXXXX
B18: {=テーブル1[姓 (Last Name)]&テーブル1[名 (First Name)]} -> 農林太郎 | C18: {=テーブル1[e-Rad番号]} -> XXXXXXXX
B19: {=テーブル1[姓 (Last Name)]&テーブル1[名 (First Name)]} -> 農林太郎 | C19: {=テーブル1[e-Rad番号]} -> XXXXXXXX
B20: {=テーブル1[姓 (Last Name)]&テーブル1[名 (First Name)]} -> 農林太郎 | C20: {=テーブル1[e-Rad番号]} -> XXXXXXXX
... B35: {=テーブル1[姓 (Last Name)]&テーブル1[名 (First Name)]} -> 農林太郎 | C35: {=テーブル1[e-Rad番号]} -> XXXXXXXX

Sheet リスト（様式外）
A1: リスト（様式外）
B3: 国・地域名（英語） | C3: 国・地域名（日本語）
B4: Antigua and Barbuda | C4: アンティグア・バーブーダ
B5: Arab Republic of Egypt | C5: エジプト・アラブ共和国
B6: Argentine Republic | C6: アルゼンチン共和国
B7: Barbados | C7: バルバドス
B8: Belize | C8: ベリーズ
B9: Bolivarian Republic of Venezuela | C9: ベネズエラ・ボリバル共和国
B10: Bosnia and Herzegovina | C10: ボスニア・ヘルツェゴビナ
B11: Brunei Darussalam | C11: ブルネイ・ダルサラーム国
B12: Burkina Faso | C12: ブルキナファソ
B13: Canada | C13: カナダ
B14: Central African Republic | C14: 中央アフリカ共和国
... B204: Vatican | C204: バチカン
